BEGIN:VCALENDAR
VERSION:2.0
PRODID:-//Southern Early Music Forum - ECPv6.15.20//NONSGML v1.0//EN
CALSCALE:GREGORIAN
METHOD:PUBLISH
X-ORIGINAL-URL:https://semf.org.uk
X-WR-CALDESC:Events for Southern Early Music Forum
REFRESH-INTERVAL;VALUE=DURATION:PT1H
X-Robots-Tag:noindex
X-PUBLISHED-TTL:PT1H
BEGIN:VTIMEZONE
TZID:Europe/London
BEGIN:DAYLIGHT
TZOFFSETFROM:+0000
TZOFFSETTO:+0100
TZNAME:BST
DTSTART:20250330T010000
END:DAYLIGHT
BEGIN:STANDARD
TZOFFSETFROM:+0100
TZOFFSETTO:+0000
TZNAME:GMT
DTSTART:20251026T010000
END:STANDARD
BEGIN:DAYLIGHT
TZOFFSETFROM:+0000
TZOFFSETTO:+0100
TZNAME:BST
DTSTART:20260329T010000
END:DAYLIGHT
BEGIN:STANDARD
TZOFFSETFROM:+0100
TZOFFSETTO:+0000
TZNAME:GMT
DTSTART:20261025T010000
END:STANDARD
BEGIN:DAYLIGHT
TZOFFSETFROM:+0000
TZOFFSETTO:+0100
TZNAME:BST
DTSTART:20270328T010000
END:DAYLIGHT
BEGIN:STANDARD
TZOFFSETFROM:+0100
TZOFFSETTO:+0000
TZNAME:GMT
DTSTART:20271031T010000
END:STANDARD
END:VTIMEZONE
BEGIN:VEVENT
DTSTART;TZID=Europe/London:20260127T193000
DTEND;TZID=Europe/London:20260127T203000
DTSTAMP:20260423T155301
CREATED:20251001T181045Z
LAST-MODIFIED:20251213T182325Z
UID:729-1769542200-1769545800@semf.org.uk
SUMMARY:Orlando Gibbons and the Music of Westminster Abbey (Zoom)
DESCRIPTION:A Zoom talk by Patrick Craig \n\n\n\n\n\nOrlando Gibbons was one of the most brilliant and imaginative composers this country has ever produced. He is beloved by jazz musicians such as Glenn Gould for his inventive and unpredictable genius. In this lecture Patrick traces his career at Westminster Abbey\, looking at his predecessors who shaped his education\, and looking ahead to some of the great musicians who followed him there including Pelham Humfrey\, Henry Purcell and his own son Christopher Gibbons. \n\n\n\nOnline booking form \n\n\n\nFlier with further information
URL:https://semf.org.uk/event/orlando-gibbons-and-the-music-of-westminster-abbey
LOCATION:Zoom
END:VEVENT
END:VCALENDAR