BEGIN:VCALENDAR
VERSION:2.0
PRODID:-//Southern Early Music Forum - ECPv6.15.20//NONSGML v1.0//EN
CALSCALE:GREGORIAN
METHOD:PUBLISH
X-WR-CALNAME:Southern Early Music Forum
X-ORIGINAL-URL:https://semf.org.uk
X-WR-CALDESC:Events for Southern Early Music Forum
REFRESH-INTERVAL;VALUE=DURATION:PT1H
X-Robots-Tag:noindex
X-PUBLISHED-TTL:PT1H
BEGIN:VTIMEZONE
TZID:Europe/London
BEGIN:DAYLIGHT
TZOFFSETFROM:+0000
TZOFFSETTO:+0100
TZNAME:BST
DTSTART:20240331T010000
END:DAYLIGHT
BEGIN:STANDARD
TZOFFSETFROM:+0100
TZOFFSETTO:+0000
TZNAME:GMT
DTSTART:20241027T010000
END:STANDARD
BEGIN:DAYLIGHT
TZOFFSETFROM:+0000
TZOFFSETTO:+0100
TZNAME:BST
DTSTART:20250330T010000
END:DAYLIGHT
BEGIN:STANDARD
TZOFFSETFROM:+0100
TZOFFSETTO:+0000
TZNAME:GMT
DTSTART:20251026T010000
END:STANDARD
BEGIN:DAYLIGHT
TZOFFSETFROM:+0000
TZOFFSETTO:+0100
TZNAME:BST
DTSTART:20260329T010000
END:DAYLIGHT
BEGIN:STANDARD
TZOFFSETFROM:+0100
TZOFFSETTO:+0000
TZNAME:GMT
DTSTART:20261025T010000
END:STANDARD
END:VTIMEZONE
BEGIN:VEVENT
DTSTART;TZID=Europe/London:20251109T190000
DTEND;TZID=Europe/London:20251109T200000
DTSTAMP:20260421T174827
CREATED:20251005T071847Z
LAST-MODIFIED:20251005T071926Z
UID:735-1762714800-1762718400@semf.org.uk
SUMMARY:Annual General Meeting 2025 (Zoom)
DESCRIPTION:Followed by a conversation with our Vice-President David Allinson
URL:https://semf.org.uk/event/annual-general-meeting-2025
LOCATION:Zoom
END:VEVENT
BEGIN:VEVENT
DTSTART;TZID=Europe/London:20251115T103000
DTEND;TZID=Europe/London:20251115T170000
DTSTAMP:20260421T174827
CREATED:20240923T205735Z
LAST-MODIFIED:20250928T151531Z
UID:584-1763202600-1763226000@semf.org.uk
SUMMARY:Palestrina workshop for voices directed by David Allinson (Challock)
DESCRIPTION:Directed by David Allinson\n\n\n\nDavid Allinson writes: This year the early music world has been celebrating the 500th anniversary of Palestrina’s birth. An astonishingly productive composer\, he wrote over a hundred settings of the Mass Ordinary (Kyrie\, Gloria\, etc.)\, many of which remain unheard and unrecorded today. \n\n\n\nFor this workshop\, we will explore Palestrina’s supreme mastery in the so-called ‘parody’ Mass genre. In this type of setting\, the composer bases their Mass on a pre-existing polyphonic model — generally a motet or chanson – expanding and rhapsodising on the source material in each ‘movement’.This should be a harmonious\, varied and enjoyable day of singing that sheds light on some of Palestrina’s loveliest Mass settings.  \n\n\n\nWhile final repertoire choices depend on the forces signing up\, it is hoped to include a movement from some or all of these Masses: O sacrum convivium\, Sicut lilium\, O magnum mysterium and Je suis deshéritée – along with the polyphonic source motet or chanson. Divided voice parts are frequently required (especially tenors) so strong singers are encouraged to sign up early so that the desired Masses can be included. \n\n\n\nMore basses needed! \n\n\n\nAltos will be put on a waiting list (unless accompaied by at least one bass). \n\n\n\nOnline  booking form (preferred) \n\n\n\nFurther details and postal booking form.
URL:https://semf.org.uk/event/palestrina-workshop-for-voices
LOCATION:Challock Memorial Hall\, Blind Lane\, Challock\, TN25 4AU\, United Kingdom
CATEGORIES:SEMF
END:VEVENT
BEGIN:VEVENT
DTSTART;TZID=Europe/London:20251115T103000
DTEND;TZID=Europe/London:20251115T170000
DTSTAMP:20260421T174827
CREATED:20250412T172011Z
LAST-MODIFIED:20250916T153829Z
UID:661-1763202600-1763226000@semf.org.uk
SUMMARY:Workshop for voices and instruments directed by Alison Kinder (Boxgrove)
DESCRIPTION:A European Advent\n\n\n\nAlison Kinder will take us on a musical tour of western Europe. Come and explore some glorious – but less familiar – music appropriate to the approaching Advent season. \n\n\n\nSubject to the forces available (especially tenors!)\, the music will include: Ecce Dominus Veniet a8 (Praetorius); O Lieber Herre Gott a7 (Schutz)\, Spiritus Sanctus a7 (Merulo); Ad te Levavi (Palestrina); Veni Domine (Morales); Laetentur Coeli (Byrd); and Gibbons’ 6 part setting of Lift up your heads.  \n\n\n\nApplications are welcome from singers (all voices) and players of instruments appropriate to the period (strings – viol and violin families; loud and soft wind; and continuo instruments). \n\n\n\nOnline booking form (preferred). \n\n\n\nFurther details and postal booking form.
URL:https://semf.org.uk/event/workshop-for-voices-and-instruments-directed-by-ali-kinder
LOCATION:Boxgrove Village Hall\, The Street\, Boxgrove\, PO18 0EE\, United Kingdom
CATEGORIES:SEMF
END:VEVENT
END:VCALENDAR